BEGIN:VCALENDAR
VERSION:2.0
PRODID:-//The Township at Colony Park - ECPv5.16.1.1//NONSGML v1.0//EN
CALSCALE:GREGORIAN
METHOD:PUBLISH
X-WR-CALNAME:The Township at Colony Park
X-ORIGINAL-URL:https://thetownship.com/t
X-WR-CALDESC:Events for The Township at Colony Park
BEGIN:VTIMEZONE
TZID:America/Chicago
BEGIN:DAYLIGHT
TZOFFSETFROM:-0600
TZOFFSETTO:-0500
TZNAME:CDT
DTSTART:20200308T080000
END:DAYLIGHT
BEGIN:STANDARD
TZOFFSETFROM:-0500
TZOFFSETTO:-0600
TZNAME:CST
DTSTART:20201101T070000
END:STANDARD
END:VTIMEZONE
BEGIN:VEVENT
DTSTART;TZID=America/Chicago:20200225T180000
DTEND;TZID=America/Chicago:20200225T200000
DTSTAMP:20260424T212738
CREATED:20200206T223022Z
LAST-MODIFIED:20200206T223022Z
UID:1630-1582653600-1582660800@thetownship.com
SUMMARY:0.5K - A Run for Everyone
DESCRIPTION:Come Join Friends of Children’s Hospital and “Laissez Les Bons Temps Rouler” at the first Mardi Gras – 0.5k\, A Run for Everyone to help raise money to support pediatric patients. You can run\, walk\, stroll or dance your way through the Township at Colony Park in Ridgeland to celebrate Fat Tuesday on February 25 at 6 p.m. While it’s not too late to train for this “long and exhausting course\,” we bet training is not required!\nYour $30 registration includes a T-shirt (for the first 200 signups)\, goodie bag and a chance to win prizes donated by Super Shakes\, Uptown Dental\, Anjou\, Faces\, J. Olive\, Hemline\, Sollberger\, The Highland Vet\, Ray’s Teen Boutique and more. The Mardi Gras Trombone Jazz Quartet\, a magic show and costume contest (including pets) are all part of the fun. \nGet your Tickets Here – https://www.eventbrite.com/e/05k-a-run-for-everyone-tickets-88173720973
URL:https://thetownship.com/t/event/0-5k-a-run-for-everyone/
LOCATION:The Township at Colony Park\, 1107 Highland Colony Parkway\, Ridgeland\, MS\, 39157\, United States
END:VEVENT
END:VCALENDAR