BEGIN:VCALENDAR
VERSION:2.0
PRODID:-//The Township at Colony Park - ECPv5.16.1.1//NONSGML v1.0//EN
CALSCALE:GREGORIAN
METHOD:PUBLISH
X-WR-CALNAME:The Township at Colony Park
X-ORIGINAL-URL:https://thetownship.com/t
X-WR-CALDESC:Events for The Township at Colony Park
BEGIN:VTIMEZONE
TZID:America/Chicago
BEGIN:DAYLIGHT
TZOFFSETFROM:-0600
TZOFFSETTO:-0500
TZNAME:CDT
DTSTART:20200308T080000
END:DAYLIGHT
BEGIN:STANDARD
TZOFFSETFROM:-0500
TZOFFSETTO:-0600
TZNAME:CST
DTSTART:20201101T070000
END:STANDARD
END:VTIMEZONE
BEGIN:VEVENT
DTSTART;VALUE=DATE:20200114
DTEND;VALUE=DATE:20200115
DTSTAMP:20260425T083311
CREATED:20200103T193349Z
LAST-MODIFIED:20200103T193437Z
UID:1600-1578960000-1579046399@thetownship.com
SUMMARY:Taco Tuesday @ Sombra
DESCRIPTION:Join Sombra Mexican Kitchen in The Township at Colony Park every Tuesday from 11 am to 9 pm for Taco Tuesday specials. $2 tacos\, including your choice of ground beef\, pulled chicken\, pulled pork or veggie tacos\, will be offered for lunch and dinner. Plus\, happy hour will be extended on Tuesdays. Enjoy 2 for 1 house margaritas all day long.
URL:https://thetownship.com/t/event/1600/
END:VEVENT
END:VCALENDAR