BEGIN:VCALENDAR
VERSION:2.0
PRODID:-//The Township at Colony Park - ECPv5.16.1.1//NONSGML v1.0//EN
CALSCALE:GREGORIAN
METHOD:PUBLISH
X-WR-CALNAME:The Township at Colony Park
X-ORIGINAL-URL:https://thetownship.com/t
X-WR-CALDESC:Events for The Township at Colony Park
BEGIN:VTIMEZONE
TZID:America/Chicago
BEGIN:DAYLIGHT
TZOFFSETFROM:-0600
TZOFFSETTO:-0500
TZNAME:CDT
DTSTART:20190310T080000
END:DAYLIGHT
BEGIN:STANDARD
TZOFFSETFROM:-0500
TZOFFSETTO:-0600
TZNAME:CST
DTSTART:20191103T070000
END:STANDARD
END:VTIMEZONE
BEGIN:VEVENT
DTSTART;TZID=America/Chicago:20191121T160000
DTEND;TZID=America/Chicago:20191121T210000
DTSTAMP:20260425T224927
CREATED:20191104T162127Z
LAST-MODIFIED:20191104T162500Z
UID:1545-1574352000-1574370000@thetownship.com
SUMMARY:Beaujolais Nouveau @ Anjou Restaurant
DESCRIPTION:Join us at Anjou as we celebrate Beaujolais Nouveau Day! The traditional French holiday\, marked on the third Thursday in November\, celebrates the first wine of the season just weeks after the grapes have been harvested.\n\n\n \n\n\nEnjoy a special three-course menu presented by Chef Christian Amelot including a glass of Beaujolais for $52 per person\, or without wine for $46 per person; menu prices are before tax and gratuity.  The full dinner menu will also be available\, plus live music by SWING.\n\n\n\n \n\n\nReservations are available by calling us at 601.707.0587.
URL:https://thetownship.com/t/event/beaujolais-nouveau-anjou-restaurant/
LOCATION:The Township at Colony Park Anjou Restaurant\, 361 Township Ave\, Ridgeland\, MS\, 39157\, United States
END:VEVENT
END:VCALENDAR