BEGIN:VCALENDAR
VERSION:2.0
PRODID:-//The Township at Colony Park - ECPv5.16.1.1//NONSGML v1.0//EN
CALSCALE:GREGORIAN
METHOD:PUBLISH
X-WR-CALNAME:The Township at Colony Park
X-ORIGINAL-URL:https://thetownship.com/t
X-WR-CALDESC:Events for The Township at Colony Park
BEGIN:VTIMEZONE
TZID:America/Chicago
BEGIN:DAYLIGHT
TZOFFSETFROM:-0600
TZOFFSETTO:-0500
TZNAME:CDT
DTSTART:20210314T080000
END:DAYLIGHT
BEGIN:STANDARD
TZOFFSETFROM:-0500
TZOFFSETTO:-0600
TZNAME:CST
DTSTART:20211107T070000
END:STANDARD
END:VTIMEZONE
BEGIN:VEVENT
DTSTART;VALUE=DATE:20210505
DTEND;VALUE=DATE:20210506
DTSTAMP:20260424T054315
CREATED:20210413T184754Z
LAST-MODIFIED:20210413T210010Z
UID:19838-1620172800-1620259199@thetownship.com
SUMMARY:Cinco De Mayo @ Sombra
DESCRIPTION:We are so excited to bring back our in-person Cinco de Mayo celebrations this May! Drink specials will be available ALL DAY May 5th & live music will be featured throughout the day.\nOh\, & let’s not forget the Instagram-able balloon wall! Snap a festive photo there with your fellow fiesta friends & post to social media using the hashtag “#sombracinco2021” for a chance to win one of two $25 Sombra gift cards.\nA special thank you goes out to our friends and 2021 Sombra Cinco sponsors\, Capital City Beverage and Cathead Distillery! \n 
URL:https://thetownship.com/t/event/cinco-de-mayo/
LOCATION:Sombra Mexican Kitchen\, 140 Township Ave.\, Suite 100\, Ridgeland\, MS\, 39157\, United States
CATEGORIES:Events Calendar
END:VEVENT
END:VCALENDAR