BEGIN:VCALENDAR
VERSION:2.0
PRODID:-//The Township at Colony Park - ECPv5.16.1.1//NONSGML v1.0//EN
CALSCALE:GREGORIAN
METHOD:PUBLISH
X-WR-CALNAME:The Township at Colony Park
X-ORIGINAL-URL:https://thetownship.com/t
X-WR-CALDESC:Events for The Township at Colony Park
BEGIN:VTIMEZONE
TZID:America/Chicago
BEGIN:DAYLIGHT
TZOFFSETFROM:-0600
TZOFFSETTO:-0500
TZNAME:CDT
DTSTART:20200308T080000
END:DAYLIGHT
BEGIN:STANDARD
TZOFFSETFROM:-0500
TZOFFSETTO:-0600
TZNAME:CST
DTSTART:20201101T070000
END:STANDARD
END:VTIMEZONE
BEGIN:VEVENT
DTSTART;TZID=America/Chicago:20200229T180000
DTEND;TZID=America/Chicago:20200229T210000
DTSTAMP:20260424T200342
CREATED:20200206T223523Z
LAST-MODIFIED:20200206T224014Z
UID:1634-1582999200-1583010000@thetownship.com
SUMMARY:Mystery Dinner Theater @ Anjou
DESCRIPTION:Put on your detective cap! Enjoy a three-course meal on Saturday\, February 29th while solving the mystery in an interactive dinner theater performance presented by The Detectives Dinner Theatre. The price is $52 per person\, plus tax and gratuity. Seating and cocktail service begin at 6pm; dinner and show begin at 7pm. \nThis event will take place in our private dining room. Limited reservations are available by calling us at 601.707.0587
URL:https://thetownship.com/t/event/mystery-dinner-theater-anjou-3/
LOCATION:The Township at Colony Park Anjou Restaurant\, 361 Township Ave\, Ridgeland\, MS\, 39157\, United States
END:VEVENT
END:VCALENDAR