BEGIN:VCALENDAR
VERSION:2.0
PRODID:-//The Township at Colony Park - ECPv5.16.1.1//NONSGML v1.0//EN
CALSCALE:GREGORIAN
METHOD:PUBLISH
X-WR-CALNAME:The Township at Colony Park
X-ORIGINAL-URL:https://thetownship.com/t
X-WR-CALDESC:Events for The Township at Colony Park
BEGIN:VTIMEZONE
TZID:America/Chicago
BEGIN:DAYLIGHT
TZOFFSETFROM:-0600
TZOFFSETTO:-0500
TZNAME:CDT
DTSTART:20190310T080000
END:DAYLIGHT
BEGIN:STANDARD
TZOFFSETFROM:-0500
TZOFFSETTO:-0600
TZNAME:CST
DTSTART:20191103T070000
END:STANDARD
END:VTIMEZONE
BEGIN:VEVENT
DTSTART;TZID=America/Chicago:20191205T170000
DTEND;TZID=America/Chicago:20191205T210000
DTSTAMP:20260425T153840
CREATED:20191104T160016Z
LAST-MODIFIED:20191104T162656Z
UID:1533-1575565200-1575579600@thetownship.com
SUMMARY:Photos with Santa @ The Township
DESCRIPTION:GREAT NEWS… Due to high demand\, we’ve added additional nights for Photos with Santa this year! \nSchedule is listed below:\nSaturday\, November 30\, 2019 – 10:00 am – 6:00 pm\nThursday\, December 5\, 2019 – 5:00 pm – 9:00 pm\nFriday\, December 6\, 2019 – 5:00 pm – 9:00 pm \nPhotography details:\n— Photo package includes 10 to 15 photos on a flash drive that is yours to keep (given to guests immediately after taking photos) – $35
URL:https://thetownship.com/t/event/photos-with-santa-the-township/
LOCATION:The Township at Colony Park\, 1107 Highland Colony Parkway\, Ridgeland\, MS\, 39157\, United States
END:VEVENT
END:VCALENDAR