BEGIN:VCALENDAR
VERSION:2.0
PRODID:-//The Township at Colony Park - ECPv5.16.1.1//NONSGML v1.0//EN
CALSCALE:GREGORIAN
METHOD:PUBLISH
X-WR-CALNAME:The Township at Colony Park
X-ORIGINAL-URL:https://thetownship.com/t
X-WR-CALDESC:Events for The Township at Colony Park
BEGIN:VTIMEZONE
TZID:America/Chicago
BEGIN:DAYLIGHT
TZOFFSETFROM:-0600
TZOFFSETTO:-0500
TZNAME:CDT
DTSTART:20200308T080000
END:DAYLIGHT
BEGIN:STANDARD
TZOFFSETFROM:-0500
TZOFFSETTO:-0600
TZNAME:CST
DTSTART:20201101T070000
END:STANDARD
END:VTIMEZONE
BEGIN:VEVENT
DTSTART;VALUE=DATE:20200320
DTEND;VALUE=DATE:20200322
DTSTAMP:20260424T145811
CREATED:20200302T211519Z
LAST-MODIFIED:20200316T193733Z
UID:1683-1584662400-1584835199@thetownship.com
SUMMARY:Sollberger's Spring Sale
DESCRIPTION:
URL:https://thetownship.com/t/event/sollbergers-spring-cleaning-sale/
LOCATION:Sollberger’s\, 1111 Highland Colony Pkwy # E\, Ridgeland\, MS\, 39157\, United States
END:VEVENT
END:VCALENDAR