BEGIN:VCALENDAR
VERSION:2.0
PRODID:-//The Township at Colony Park - ECPv5.16.1.1//NONSGML v1.0//EN
CALSCALE:GREGORIAN
METHOD:PUBLISH
X-WR-CALNAME:The Township at Colony Park
X-ORIGINAL-URL:https://thetownship.com/t
X-WR-CALDESC:Events for The Township at Colony Park
BEGIN:VTIMEZONE
TZID:America/Chicago
BEGIN:DAYLIGHT
TZOFFSETFROM:-0600
TZOFFSETTO:-0500
TZNAME:CDT
DTSTART:20200308T080000
END:DAYLIGHT
BEGIN:STANDARD
TZOFFSETFROM:-0500
TZOFFSETTO:-0600
TZNAME:CST
DTSTART:20201101T070000
END:STANDARD
END:VTIMEZONE
BEGIN:VEVENT
DTSTART;TZID=America/Chicago:20200331T110000
DTEND;TZID=America/Chicago:20200331T210000
DTSTAMP:20260424T103905
CREATED:20200302T174229Z
LAST-MODIFIED:20200302T174229Z
UID:1671-1585652400-1585688400@thetownship.com
SUMMARY:Taco Tuesday @ Sombra
DESCRIPTION:Join Sombra Mexican Kitchen in The Township at Colony Park every Tuesday from 11 am to 9 pm for Taco Tuesday specials. $2 tacos\, including your choice of ground beef\, pulled chicken\, pulled pork or veggie tacos\, will be offered for lunch and dinner. Plus\, happy hour will be extended on Tuesdays. Enjoy 2 for 1 house margaritas all day long.
URL:https://thetownship.com/t/event/taco-tuesday-sombra-17/
LOCATION:Sombra Mexican Kitchen\, 140 Township Ave.\, Suite 100\, Ridgeland\, MS\, 39157\, United States
END:VEVENT
END:VCALENDAR