BEGIN:VCALENDAR
VERSION:2.0
PRODID:-//The Township at Colony Park - ECPv5.16.1.1//NONSGML v1.0//EN
CALSCALE:GREGORIAN
METHOD:PUBLISH
X-WR-CALNAME:The Township at Colony Park
X-ORIGINAL-URL:https://thetownship.com/t
X-WR-CALDESC:Events for The Township at Colony Park
BEGIN:VTIMEZONE
TZID:America/Chicago
BEGIN:DAYLIGHT
TZOFFSETFROM:-0600
TZOFFSETTO:-0500
TZNAME:CDT
DTSTART:20190310T080000
END:DAYLIGHT
BEGIN:STANDARD
TZOFFSETFROM:-0500
TZOFFSETTO:-0600
TZNAME:CST
DTSTART:20191103T070000
END:STANDARD
END:VTIMEZONE
BEGIN:VEVENT
DTSTART;TZID=America/Chicago:20191203T110000
DTEND;TZID=America/Chicago:20191203T210000
DTSTAMP:20260425T183318
CREATED:20191104T144209Z
LAST-MODIFIED:20191104T144523Z
UID:1523-1575370800-1575406800@thetownship.com
SUMMARY:Taco Tuesday @ Sombra
DESCRIPTION:Join Sombra Mexican Kitchen in The Township at Colony Park every Tuesday from 11 am to 9 pm for Taco Tuesday specials. $2 tacos\, including your choice of ground beef\, pulled chicken\, pulled pork or veggie tacos\, will be offered for lunch and dinner. Plus\, happy hour will be extended on Tuesdays. Enjoy 2 for 1 house margaritas all day long.
URL:https://thetownship.com/t/event/taco-tuesday-sombra-5/
END:VEVENT
END:VCALENDAR