BEGIN:VCALENDAR
VERSION:2.0
PRODID:-//The Township at Colony Park - ECPv5.16.1.1//NONSGML v1.0//EN
CALSCALE:GREGORIAN
METHOD:PUBLISH
X-WR-CALNAME:The Township at Colony Park
X-ORIGINAL-URL:https://thetownship.com/t
X-WR-CALDESC:Events for The Township at Colony Park
BEGIN:VTIMEZONE
TZID:America/Chicago
BEGIN:DAYLIGHT
TZOFFSETFROM:-0600
TZOFFSETTO:-0500
TZNAME:CDT
DTSTART:20200308T080000
END:DAYLIGHT
BEGIN:STANDARD
TZOFFSETFROM:-0500
TZOFFSETTO:-0600
TZNAME:CST
DTSTART:20201101T070000
END:STANDARD
END:VTIMEZONE
BEGIN:VEVENT
DTSTART;VALUE=DATE:20201010
DTEND;VALUE=DATE:20201011
DTSTAMP:20260424T090830
CREATED:20200406T201225Z
LAST-MODIFIED:20210730T151219Z
UID:1714-1602288000-1602374399@thetownship.com
SUMMARY:Township Jazz Festival
DESCRIPTION:
URL:https://thetownship.com/t/event/township-jazz-festival/
LOCATION:The Township at Colony Park\, 1107 Highland Colony Parkway\, Ridgeland\, MS\, 39157\, United States
CATEGORIES:Events Calendar
END:VEVENT
END:VCALENDAR